BEGIN:VCALENDAR
VERSION:2.0
PRODID:icalendar-ruby
CALSCALE:GREGORIAN
METHOD:PUBLISH
BEGIN:VEVENT
DTSTAMP:20260421T135038Z
UID:8-338784@hazelcrestumc.org
DTSTART:20261015T000000Z
DTEND:20261015T010000Z
CLASS:PUBLIC
CREATED:20260421T073151
DESCRIPTION:
LAST-MODIFIED:20260421T073151
LOCATION:
SUMMARY:Hymn Sing On Zoom
URL;VALUE=URI:https://hazelcrestumc.org/events/hymn-sing-on-zoom/2026-10-14
END:VEVENT
END:VCALENDAR
