BEGIN:VCALENDAR
VERSION:2.0
PRODID:icalendar-ruby
CALSCALE:GREGORIAN
METHOD:PUBLISH
BEGIN:VEVENT
DTSTAMP:20260421T162855Z
UID:8-338990@hazelcrestumc.org
DTSTART:20261029T000000Z
DTEND:20261029T010000Z
CLASS:PUBLIC
CREATED:20260421T100728
DESCRIPTION:
LAST-MODIFIED:20260421T100728
LOCATION:
SUMMARY:Hymn Sing On Zoom
URL;VALUE=URI:https://hazelcrestumc.org/events/hymn-sing-on-zoom/2026-10-28
END:VEVENT
END:VCALENDAR
