BEGIN:VCALENDAR
VERSION:2.0
PRODID:icalendar-ruby
CALSCALE:GREGORIAN
METHOD:PUBLISH
BEGIN:VEVENT
DTSTAMP:20260420T213707Z
UID:6-338021@hazelcrestumc.org
DTSTART:20261011T150000Z
DTEND:20261012T040000Z
CLASS:PUBLIC
CREATED:20260420T151434
DESCRIPTION:Sacrament of Holy Communion - Every First Sunday
LAST-MODIFIED:20260420T151434
LOCATION:In Person and Zoom
SUMMARY:Sunday Worship
URL;VALUE=URI:https://hazelcrestumc.org/events/sunday-worship/2026-10-11
END:VEVENT
END:VCALENDAR
