BEGIN:VCALENDAR
VERSION:2.0
PRODID:icalendar-ruby
CALSCALE:GREGORIAN
METHOD:PUBLISH
BEGIN:VEVENT
DTSTAMP:20260420T225626Z
UID:6-338226@hazelcrestumc.org
DTSTART:20261018T150000Z
DTEND:20261019T040000Z
CLASS:PUBLIC
CREATED:20260420T174959
DESCRIPTION:Sacrament of Holy Communion - Every First Sunday
LAST-MODIFIED:20260420T174959
LOCATION:In Person and Zoom
SUMMARY:Sunday Worship
URL;VALUE=URI:https://hazelcrestumc.org/events/sunday-worship/2026-10-18
END:VEVENT
END:VCALENDAR
