BEGIN:VCALENDAR
VERSION:2.0
PRODID:icalendar-ruby
CALSCALE:GREGORIAN
METHOD:PUBLISH
BEGIN:VEVENT
DTSTAMP:20260421T014555Z
UID:6-338432@hazelcrestumc.org
DTSTART:20261101T160000Z
DTEND:20261102T050000Z
CLASS:PUBLIC
CREATED:20260420T202413
DESCRIPTION:Sacrament of Holy Communion - Every First Sunday
LAST-MODIFIED:20260420T202413
LOCATION:In Person and Zoom
SUMMARY:Sunday Worship
URL;VALUE=URI:https://hazelcrestumc.org/events/sunday-worship/2026-11-01
END:VEVENT
END:VCALENDAR
